OziExplorer Map Data File Version 2.2
l55-24
Y:\ozi_map\work_map\2\l55-24.jpg
1 ,Map Code,
Pulkovo 1942 (1),, 0.0000, 0.0000,WGS 84
Reserved 1
Reserved 2
Magnetic Variation,,,E
Map Projection,Transverse Mercator,PolyCal,Yes,AutoCalOnly,No,BSBUseWPX,No
Point01,xy, 134, 191,in, deg, 46, 0.0000,N, 149, 0.0000,E, grid, , , ,N
Point02,xy, 2425, 200,in, deg, 46, 0.0000,N, 149, 30.0000,E, grid, , , ,N
Point03,xy, 4716, 192,in, deg, 46, 0.0000,N, 150, 0.0000,E, grid, , , ,N
Point04,xy, 120, 2375,in, deg, 45, 40.0000,N, 149, 0.0000,E, grid, , , ,N
Point05,xy, 2423, 2388,in, deg, 45, 40.0000,N, 149, 30.0000,E, grid, , , ,N
Point06,xy, 4730, 2378,in, deg, 45, 40.0000,N, 150, 0.0000,E, grid, , , ,N
Point07,xy, 102, 4557,in, deg, 45, 20.0000,N, 149, 0.0000,E, grid, , , ,N
Point08,xy, 2422, 4570,in, deg, 45, 20.0000,N, 149, 30.0000,E, grid, , , ,N
Point09,xy, 4739, 4564,in, deg, 45, 20.0000,N, 150, 0.0000,E, grid, , , ,N
Point10,xy, , ,in, deg, , ,, , ,, grid, , , ,N
Point11,xy, , ,in, deg, , ,, , ,, grid, , , ,N
Point12,xy, , ,in, deg, , ,, , ,, grid, , , ,N
Point13,xy, , ,in, deg, , ,, , ,, grid, , , ,N
Point14,xy, , ,in, deg, , ,, , ,, grid, , , ,N
Point15,xy, , ,in, deg, , ,, , ,, grid, , , ,N
Point16,xy, , ,in, deg, , ,, , ,, grid, , , ,N
Point17,xy, , ,in, deg, , ,, , ,, grid, , , ,N
Point18,xy, , ,in, deg, , ,, , ,, grid, , , ,N
Point19,xy, , ,in, deg, , ,, , ,, grid, , , ,N
Point20,xy, , ,in, deg, , ,, , ,, grid, , , ,N
Point21,xy, , ,in, deg, , ,, , ,, grid, , , ,N
Point22,xy, , ,in, deg, , ,, , ,, grid, , , ,N
Point23,xy, , ,in, deg, , ,, , ,, grid, , , ,N
Point24,xy, , ,in, deg, , ,, , ,, grid, , , ,N
Point25,xy, , ,in, deg, , ,, , ,, grid, , , ,N
Point26,xy, , ,in, deg, , ,, , ,, grid, , , ,N
Point27,xy, , ,in, deg, , ,, , ,, grid, , , ,N
Point28,xy, , ,in, deg, , ,, , ,, grid, , , ,N
Point29,xy, , ,in, deg, , ,, , ,, grid, , , ,N
Point30,xy, , ,in, deg, , ,, , ,, grid, , , ,N
Projection Setup, 0.000000000, 147.000000000, 1.000000000, 25500000.00, 0.00,,,,,
Map Feature = MF ; Map Comment = MC These follow if they exist
Track File = TF These follow if they exist
Moving Map Parameters = MM? These follow if they exist
MM0,Yes
MMPNUM,4
MMPXY,1,132,190
MMPXY,2,4720,188
MMPXY,3,4742,4568
MMPXY,4,101,4559
MMPLL,1, 148.999567, 46.000108
MMPLL,2, 150.000851, 46.000513
MMPLL,3, 150.000507, 45.332677
MMPLL,4, 148.999682, 45.333032
MM1B,16.897799
Other Grid Setup
GRGRID,Yes,4 Km,No,16711680,255,4 Km,0,16777215,8,0,Yes,Yes,No,x
MOP,Map Open Position,0,0
IWH,Map Image Width/Height,4856,4687
